Workbook

Sheet White Sails IRC
B5: Race 1 Start Time | C5: 0.47916667 | L5: Race 2 Start Time | N5: 0.54166667
F7: RACE 1 | L7: RACE 2 | R7: Total Score | S7: Overall Position
A8: WHITE SAILS | F8: Race 1 Finish Time | G8: Calculated Elapsed Time | H8: Entered Elapsed Time | I8: Calculated Elapsed Time | J8: IRC Corrected Time | K8: IRC Position | L8: Race 2 Finish Time | M8: Calculated Elapsed Time | N8: Entered Elapsed Time | O8: Calculated Elapsed Time | P8: IRC Corrected Time | Q8: IRC Position
B9: Sail No: | C9: Boat Name: | D9: IRC | E9: ECHO
B11: 4250 | C11: Act Two | D11: 0.994 | E11: 1.09 | F11: 0.56978009 | G11: =IF(((F11-C5)*86400)<0, 0, ((F11-C5)*86400)) -> 7829 | I11: =(H11*86400) -> 0 | J11: =(G11*D11)+(I11*D11) -> 7782.026 | K11: 4 | M11: =IF(((L11-N5)*86400)<0, 0, ((L11-N5)*86400)) -> 0 | O11: =(N11*86400) -> 0 | P11: =(M11*D11)+(O11*D11) -> 0 | Q11: =RANK(P11,P10:P30,1) -> 1 | R11: =Q11+K11 -> 5 | S11: =RANK(R11,R10:R30,1) -> 15
B12: 5643 | C12: Calypso | D12: 0.928 | E12: 0.969 | F12: 0.57959491 | G12: =IF(((F12-C5)*86400)<0, 0, ((F12-C5)*86400)) -> 8677 | I12: =(H12*86400) -> 0 | J12: =(G12*D12)+(I12*D12) -> 8052.256 | K12: 5 | M12: =IF(((L12-N5)*86400)<0, 0, ((L12-N5)*86400)) -> 0 | O12: =(N12*86400) -> 0 | P12: =(M12*D12)+(O12*D12) -> 0 | Q12: =RANK(P12,P10:P30,1) -> 1 | R12: =Q12+K12 -> 6 | S12: =RANK(R12,R10:R30,1) -> 16
B13: 932 | C13: Cevantes | D13: 0.858 | E13: 0.907 | F13: 0.57846065 | G13: =IF(((F13-C5)*86400)<0, 0, ((F13-C5)*86400)) -> 8579 | I13: =(H13*86400) -> 0 | J13: =(G13*D13)+(I13*D13) -> 7360.782 | K13: 3 | M13: =IF(((L13-N5)*86400)<0, 0, ((L13-N5)*86400)) -> 0 | O13: =(N13*86400) -> 0 | P13: =(M13*D13)+(O13*D13) -> 0 | Q13: =RANK(P13,P10:P30,1) -> 1 | R13: =Q13+K13 -> 4 | S13: =RANK(R13,R10:R30,1) -> 14
B14: 1315 | C14: Fortuitudine | E14: 0.95 | F14: 0.58119213 | G14: =IF(((F14-C5)*86400)<0, 0, ((F14-C5)*86400)) -> 8815 | I14: =(H14*86400) -> 0 | J14: =(G14*D14)+(I14*D14) -> 0 | M14: =IF(((L14-N5)*86400)<0, 0, ((L14-N5)*86400)) -> 0 | O14: =(N14*86400) -> 0 | P14: =(M14*D14)+(O14*D14) -> 0 | Q14: =RANK(P14,P10:P30,1) -> 1 | R14: =Q14+K14 -> 1 | S14: =RANK(R14,R10:R30,1) -> 1
B15: 3506 | C15: Just Jasmin | E15: 1.027 | F15: 0.57606481 | G15: =IF(((F15-C5)*86400)<0, 0, ((F15-C5)*86400)) -> 8372 | I15: =(H15*86400) -> 0 | J15: =(G15*D15)+(I15*D15) -> 0 | M15: =IF(((L15-N5)*86400)<0, 0, ((L15-N5)*86400)) -> 0 | O15: =(N15*86400) -> 0 | P15: =(M15*D15)+(O15*D15) -> 0 | Q15: =RANK(P15,P10:P30,1) -> 1 | R15: =Q15+K15 -> 1 | S15: =RANK(R15,R10:R30,1) -> 1
B16: 6001 | C16: Rebellion | D16: 1.056 | E16: 1.055 | F16: 0.57256944 | G16: =IF(((F16-C5)*86400)<0, 0, ((F16-C5)*86400)) -> 8070 | I16: =(H16*86400) -> 0 | J16: =(G16*D16)+(I16*D16) -> 8521.92 | K16: 7 | M16: =IF(((L16-N5)*86400)<0, 0, ((L16-N5)*86400)) -> 0 | O16: =(N16*86400) -> 0 | P16: =(M16*D16)+(O16*D16) -> 0 | Q16: =RANK(P30,P10:P30,1) -> 1 | R16: =Q16+K16 -> 8 | S16: =RANK(R16,R10:R30,1) -> 18
B17: 5013 | C17: Sweet Martini | E17: 0.836 | F17: 0.59765046 | G17: =IF(((F17-C5)*86400)<0, 0, ((F17-C5)*86400)) -> 10237 | I17: =(H17*86400) -> 0 | J17: =(G17*D17)+(I17*D17) -> 0 | M17: =IF(((L17-N5)*86400)<0, 0, ((L17-N5)*86400)) -> 0 | O17: =(N17*86400) -> 0 | P17: =(M17*D17)+(O17*D17) -> 0 | Q17: =RANK(P17,P10:P30,1) -> 1 | R17: =Q17+K17 -> 1 | S17: =RANK(R17,R10:R30,1) -> 1
B18: 3950 | C18: Spirit | E18: 0.987 | F18: 0.57356481 | G18: =IF(((F18-C5)*86400)<0, 0, ((F18-C5)*86400)) -> 8156 | I18: =(H18*86400) -> 0 | J18: =(G18*D18)+(I18*D18) -> 0 | M18: =IF(((L18-N5)*86400)<0, 0, ((L18-N5)*86400)) -> 0 | O18: =(N18*86400) -> 0 | P18: =(M18*D18)+(O18*D18) -> 0 | Q18: =RANK(P18,P10:P30,1) -> 1 | R18: =Q18+K18 -> 1 | S18: =RANK(R18,R10:R30,1) -> 1
B19: 1082 | C19: Sea Safari | E19: 0.905 | F19: 0.59773148 | G19: =IF(((F19-C5)*86400)<0, 0, ((F19-C5)*86400)) -> 10244 | I19: =(H19*86400) -> 0 | J19: =(G19*D19)+(I19*D19) -> 0 | M19: =IF(((L19-N5)*86400)<0, 0, ((L19-N5)*86400)) -> 0 | O19: =(N19*86400) -> 0 | P19: =(M19*D19)+(O19*D19) -> 0 | Q19: =RANK(P19,P10:P30,1) -> 1 | R19: =Q19+K19 -> 1 | S19: =RANK(R19,R10:R30,1) -> 1
B20: 1502 | C20: Vespucci | D20: 0.876 | E20: 0.933 | F20: 0.5746412 | G20: =IF(((F20-C5)*86400)<0, 0, ((F20-C5)*86400)) -> 8249 | I20: =(H20*86400) -> 0 | J20: =(G20*D20)+(I20*D20) -> 7226.124 | K20: 2 | M20: =IF(((L20-N5)*86400)<0, 0, ((L20-N5)*86400)) -> 0 | O20: =(N20*86400) -> 0 | P20: =(M20*D20)+(O20*D20) -> 0 | Q20: =RANK(P20,P10:P30,1) -> 1 | R20: =Q20+K20 -> 3 | S20: =RANK(R20,R10:R30,1) -> 13
B21: 1103 | C21: Viking | D21: 0.926 | E21: 0.93 | F21: 0 | G21: =IF(((F21-C5)*86400)<0, 0, ((F21-C5)*86400)) -> 0 | H21: DNF | I21: 0 | J21: =(G21*D21)+(I21*D21) -> 0 | M21: =IF(((L21-N5)*86400)<0, 0, ((L21-N5)*86400)) -> 0 | O21: =(N21*86400) -> 0 | P21: =(M21*D21)+(O21*D21) -> 0 | Q21: =RANK(P21,P10:P30,1) -> 1 | R21: =Q21+K21 -> 1 | S21: =RANK(R21,R10:R30,1) -> 1
B22: 657 | C22: Voyager | D22: 0.922 | E22: 0.93 | F22: 0.56946759 | G22: =IF(((F22-C5)*86400)<0, 0, ((F22-C5)*86400)) -> 7802 | I22: =(H22*86400) -> 0 | J22: =(G22*D22)+(I22*D22) -> 7193.444 | K22: 1 | M22: =IF(((L22-N5)*86400)<0, 0, ((L22-N5)*86400)) -> 0 | O22: =(N22*86400) -> 0 | P22: =(M22*D22)+(O22*D22) -> 0 | Q22: =RANK(P22,P10:P30,1) -> 1 | R22: =Q22+K22 -> 2 | S22: =RANK(R22,R10:R30,1) -> 12
B23: 2382 | C23: Xerxes | D23: 1.024 | E23: 1.055 | F23: 0 | G23: =IF(((F23-C5)*86400)<0, 0, ((F23-C5)*86400)) -> 0 | H23: DNF | I23: 0 | J23: =(G23*D23)+(I23*D23) -> 0 | M23: =IF(((L23-N5)*86400)<0, 0, ((L23-N5)*86400)) -> 0 | O23: =(N23*86400) -> 0 | P23: =(M23*D23)+(O23*D23) -> 0 | Q23: =RANK(P23,P10:P30,1) -> 1 | R23: =Q23+K23 -> 1 | S23: =RANK(R23,R10:R30,1) -> 1
B24: 966 | C24: More Mischief | E24: 0.931 | F24: 0.57462963 | G24: =IF(((F24-C5)*86400)<0, 0, ((F24-C5)*86400)) -> 8248 | I24: =(H24*86400) -> 0 | J24: =(G24*D24)+(I24*D24) -> 0 | M24: =IF(((L24-N5)*86400)<0, 0, ((L24-N5)*86400)) -> 0 | O24: =(N24*86400) -> 0 | P24: =(M24*D24)+(O24*D24) -> 0 | Q24: =RANK(P24,P10:P30,1) -> 1 | R24: =Q24+K24 -> 1 | S24: =RANK(R24,R10:R30,1) -> 1
B25: 9612 | C25: Bambi | E25: 0.907 | F25: 0.5774537 | G25: =IF(((F25-C5)*86400)<0, 0, ((F25-C5)*86400)) -> 8492 | I25: =(H25*86400) -> 0 | J25: =(G25*D25)+(I25*D25) -> 0 | M25: =IF(((L25-N5)*86400)<0, 0, ((L25-N5)*86400)) -> 0 | O25: =(N25*86400) -> 0 | P25: =(M25*D25)+(O25*D25) -> 0 | Q25: =RANK(P25,P10:P30,1) -> 1 | R25: =Q25+K25 -> 1 | S25: =RANK(R25,R10:R30,1) -> 1
B26: 3503 | C26: Conundrum | D26: 0.961 | E26: 0.965 | F26: 0.58053241 | G26: =IF(((F26-C5)*86400)<0, 0, ((F26-C5)*86400)) -> 8758 | I26: =(H26*86400) -> 0 | J26: =(G26*D26)+(I26*D26) -> 8416.438 | K26: 6 | M26: =IF(((L26-N5)*86400)<0, 0, ((L26-N5)*86400)) -> 0 | O26: =(N26*86400) -> 0 | P26: =(M26*D26)+(O26*D26) -> 0 | Q26: =RANK(P26,P10:P30,1) -> 1 | R26: =Q26+K26 -> 7 | S26: =RANK(R26,R10:R30,1) -> 17
B27: 1012 | C27: Lucyo | E27: 0.886 | F27: 0.59445602 | G27: =IF(((F27-C5)*86400)<0, 0, ((F27-C5)*86400)) -> 9961 | I27: =(H27*86400) -> 0 | J27: =(G27*D27)+(I27*D27) -> 0 | M27: =IF(((L27-N5)*86400)<0, 0, ((L27-N5)*86400)) -> 0 | O27: =(N27*86400) -> 0 | P27: =(M27*D27)+(O27*D27) -> 0 | Q27: =RANK(P27,P10:P30,1) -> 1 | R27: =Q27+K27 -> 1 | S27: =RANK(R27,R10:R30,1) -> 1
B28: 3104 | C28: Nirvana | E28: 0.833 | F28: 0.59119213 | G28: =IF(((F28-C5)*86400)<0, 0, ((F28-C5)*86400)) -> 9679 | I28: =(H28*86400) -> 0 | J28: =(G28*D28)+(I28*D28) -> 0 | M28: =IF(((L28-N5)*86400)<0, 0, ((L28-N5)*86400)) -> 0 | O28: =(N28*86400) -> 0 | P28: =(M28*D28)+(O28*D28) -> 0 | Q28: =RANK(P28,P10:P30,1) -> 1 | R28: =Q28+K28 -> 1 | S28: =RANK(R28,R10:R30,1) -> 1

Sheet White Sails ECHO
B5: Race 1 Start Time | C5: ='White Sails IRC'!C5 -> 0.47916667 | L5: Race 2 Start Time | N5: ='White Sails IRC'!N5 -> 0.54166667
F7: RACE 1 | L7: RACE 2 | R7: Total Score | S7: Overall Position
A8: WHITE SAILS | F8: Race 1 Finish Time | G8: Calculated Elapsed Time | H8: Entered Elapsed Time | I8: Calculated Elapsed Time | J8: ECHO Corrected Time | K8: ECHO Position | L8: Race 2 Finish Time | M8: Calculated Elapsed Time | N8: Entered Elapsed Time | O8: Calculated Elapsed Time | P8: IRC Corrected Time | Q8: IRC Position
B9: Sail No: | C9: Boat Name: | D9: ECHO
B11: 4250 | C11: Act Two | D11: 1.09 | F11: ='White Sails IRC'!F11 -> 0.56978009 | G11: =IF(((F11-C5)*86400)<0, 0, ((F11-C5)*86400)) -> 7829 | I11: =(H11*86400) -> 0 | J11: =(G11*D11)+(I11*D11) -> 8533.61 | K11: 12 | M11: =IF(((L11-N5)*86400)<0, 0, ((L11-N5)*86400)) -> 0 | O11: =(N11*86400) -> 0 | P11: =(M11*D11)+(O11*D11) -> 0 | Q11: =RANK(P11,P10:P30,1) -> 1 | R11: =Q11+K11 -> 13 | S11: =RANK(R11,R10:R30,1) -> 12
B12: 5643 | C12: Calypso | D12: 0.969 | F12: ='White Sails IRC'!F12 -> 0.57959491 | G12: =IF(((F12-C5)*86400)<0, 0, ((F12-C5)*86400)) -> 8677 | I12: =(H12*86400) -> 0 | J12: =(G12*D12)+(I12*D12) -> 8408.013 | K12: 9 | M12: =IF(((L12-N5)*86400)<0, 0, ((L12-N5)*86400)) -> 0 | O12: =(N12*86400) -> 0 | P12: =(M12*D12)+(O12*D12) -> 0 | Q12: =RANK(P12,P10:P30,1) -> 1 | R12: =Q12+K12 -> 10 | S12: =RANK(R12,R10:R30,1) -> 9
B13: 932 | C13: Cevantes | D13: 0.907 | F13: ='White Sails IRC'!F13 -> 0.57846065 | G13: =IF(((F13-C5)*86400)<0, 0, ((F13-C5)*86400)) -> 8579 | I13: =(H13*86400) -> 0 | J13: =(G13*D13)+(I13*D13) -> 7781.153 | K13: 5 | M13: =IF(((L13-N5)*86400)<0, 0, ((L13-N5)*86400)) -> 0 | O13: =(N13*86400) -> 0 | P13: =(M13*D13)+(O13*D13) -> 0 | Q13: =RANK(P13,P10:P30,1) -> 1 | R13: =Q13+K13 -> 6 | S13: =RANK(R13,R10:R30,1) -> 5
B14: 1315 | C14: Fortuitudine | D14: 0.95 | F14: ='White Sails IRC'!F14 -> 0.58119213 | G14: =IF(((F14-C5)*86400)<0, 0, ((F14-C5)*86400)) -> 8815 | I14: =(H14*86400) -> 0 | J14: =(G14*D14)+(I14*D14) -> 8374.25 | K14: 8 | M14: =IF(((L14-N5)*86400)<0, 0, ((L14-N5)*86400)) -> 0 | O14: =(N14*86400) -> 0 | P14: =(M14*D14)+(O14*D14) -> 0 | Q14: =RANK(P14,P10:P30,1) -> 1 | R14: =Q14+K14 -> 9 | S14: =RANK(R14,R10:R30,1) -> 8
B15: 3506 | C15: Just Jasmin | D15: 1.027 | F15: ='White Sails IRC'!F15 -> 0.57606481 | G15: =IF(((F15-C5)*86400)<0, 0, ((F15-C5)*86400)) -> 8372 | I15: =(H15*86400) -> 0 | J15: =(G15*D15)+(I15*D15) -> 8598.044 | K15: 13 | M15: =IF(((L15-N5)*86400)<0, 0, ((L15-N5)*86400)) -> 0 | O15: =(N15*86400) -> 0 | P15: =(M15*D15)+(O15*D15) -> 0 | Q15: =RANK(P15,P10:P30,1) -> 1 | R15: =Q15+K15 -> 14 | S15: =RANK(R15,R10:R30,1) -> 14
B16: 6001 | C16: Rebellion | D16: 1.055 | F16: ='White Sails IRC'!F16 -> 0.57256944 | G16: =IF(((F16-C5)*86400)<0, 0, ((F16-C5)*86400)) -> 8070 | I16: =(H16*86400) -> 0 | J16: =(G16*D16)+(I16*D16) -> 8513.85 | K16: 11 | M16: =IF(((L16-N5)*86400)<0, 0, ((L16-N5)*86400)) -> 0 | O16: =(N16*86400) -> 0 | P16: =(M16*D16)+(O16*D16) -> 0 | Q16: =RANK(P30,P10:P30,1) -> 1 | R16: =Q16+K16 -> 12 | S16: =RANK(R16,R10:R30,1) -> 11
B17: 5013 | C17: Sweet Martini | D17: 0.836 | F17: ='White Sails IRC'!F17 -> 0.59765046 | G17: =IF(((F17-C5)*86400)<0, 0, ((F17-C5)*86400)) -> 10237 | I17: =(H17*86400) -> 0 | J17: =(G17*D17)+(I17*D17) -> 8558.132 | K17: 12 | M17: =IF(((L17-N5)*86400)<0, 0, ((L17-N5)*86400)) -> 0 | O17: =(N17*86400) -> 0 | P17: =(M17*D17)+(O17*D17) -> 0 | Q17: =RANK(P17,P10:P30,1) -> 1 | R17: =Q17+K17 -> 13 | S17: =RANK(R17,R10:R30,1) -> 12
B18: 3950 | C18: Spirit | D18: 0.987 | F18: ='White Sails IRC'!F18 -> 0.57356481 | G18: =IF(((F18-C5)*86400)<0, 0, ((F18-C5)*86400)) -> 8156 | I18: =(H18*86400) -> 0 | J18: =(G18*D18)+(I18*D18) -> 8049.972 | K18: 6 | M18: =IF(((L18-N5)*86400)<0, 0, ((L18-N5)*86400)) -> 0 | O18: =(N18*86400) -> 0 | P18: =(M18*D18)+(O18*D18) -> 0 | Q18: =RANK(P18,P10:P30,1) -> 1 | R18: =Q18+K18 -> 7 | S18: =RANK(R18,R10:R30,1) -> 6
B19: 1082 | C19: Sea Safari | D19: 0.905 | F19: ='White Sails IRC'!F19 -> 0.59773148 | G19: =IF(((F19-C5)*86400)<0, 0, ((F19-C5)*86400)) -> 10244 | I19: =(H19*86400) -> 0 | J19: =(G19*D19)+(I19*D19) -> 9270.82 | K19: 15 | M19: =IF(((L19-N5)*86400)<0, 0, ((L19-N5)*86400)) -> 0 | O19: =(N19*86400) -> 0 | P19: =(M19*D19)+(O19*D19) -> 0 | Q19: =RANK(P19,P10:P30,1) -> 1 | R19: =Q19+K19 -> 16 | S19: =RANK(R19,R10:R30,1) -> 16
B20: 1502 | C20: Vespucci | D20: 0.933 | F20: ='White Sails IRC'!F20 -> 0.5746412 | G20: =IF(((F20-C5)*86400)<0, 0, ((F20-C5)*86400)) -> 8249 | I20: =(H20*86400) -> 0 | J20: =(G20*D20)+(I20*D20) -> 7696.317 | K20: 3 | M20: =IF(((L20-N5)*86400)<0, 0, ((L20-N5)*86400)) -> 0 | O20: =(N20*86400) -> 0 | P20: =(M20*D20)+(O20*D20) -> 0 | Q20: =RANK(P20,P10:P30,1) -> 1 | R20: =Q20+K20 -> 4 | S20: =RANK(R20,R10:R30,1) -> 3
B21: 1103 | C21: Viking | F21: ='White Sails IRC'!F21 -> 0 | G21: =IF(((F21-C5)*86400)<0, 0, ((F21-C5)*86400)) -> 0 | H21: DNF | K21: 16 | M21: =IF(((L21-N5)*86400)<0, 0, ((L21-N5)*86400)) -> 0 | O21: =(N21*86400) -> 0 | P21: =(M21*D21)+(O21*D21) -> 0 | Q21: =RANK(P21,P10:P30,1) -> 1 | R21: =Q21+K21 -> 17 | S21: =RANK(R21,R10:R30,1) -> 17
B22: 657 | C22: Voyager | D22: 0.93 | F22: ='White Sails IRC'!F22 -> 0.56946759 | G22: =IF(((F22-C5)*86400)<0, 0, ((F22-C5)*86400)) -> 7802 | I22: =(H22*86400) -> 0 | J22: =(G22*D22)+(I22*D22) -> 7255.86 | K22: 1 | M22: =IF(((L22-N5)*86400)<0, 0, ((L22-N5)*86400)) -> 0 | O22: =(N22*86400) -> 0 | P22: =(M22*D22)+(O22*D22) -> 0 | Q22: =RANK(P22,P10:P30,1) -> 1 | R22: =Q22+K22 -> 2 | S22: =RANK(R22,R10:R30,1) -> 1
B23: 2382 | C23: Xerxes | D23: 1.055 | F23: ='White Sails IRC'!F23 -> 0 | G23: =IF(((F23-C5)*86400)<0, 0, ((F23-C5)*86400)) -> 0 | I23: =(H23*86400) -> 0 | J23: =(G23*D23)+(I23*D23) -> 0 | K23: 16 | M23: =IF(((L23-N5)*86400)<0, 0, ((L23-N5)*86400)) -> 0 | O23: =(N23*86400) -> 0 | P23: =(M23*D23)+(O23*D23) -> 0 | Q23: =RANK(P23,P10:P30,1) -> 1 | R23: =Q23+K23 -> 17 | S23: =RANK(R23,R10:R30,1) -> 17
B24: 966 | C24: More Mischief | D24: 0.931 | F24: ='White Sails IRC'!F24 -> 0.57462963 | G24: =IF(((F24-C5)*86400)<0, 0, ((F24-C5)*86400)) -> 8248 | I24: =(H24*86400) -> 0 | J24: =(G24*D24)+(I24*D24) -> 7678.888 | K24: 2 | M24: =IF(((L24-N5)*86400)<0, 0, ((L24-N5)*86400)) -> 0 | O24: =(N24*86400) -> 0 | P24: =(M24*D24)+(O24*D24) -> 0 | Q24: =RANK(P24,P10:P30,1) -> 1 | R24: =Q24+K24 -> 3 | S24: =RANK(R24,R10:R30,1) -> 2
B25: 9612 | C25: Bambi | D25: 0.907 | F25: ='White Sails IRC'!F25 -> 0.5774537 | G25: =IF(((F25-C5)*86400)<0, 0, ((F25-C5)*86400)) -> 8492 | I25: =(H25*86400) -> 0 | J25: =(G25*D25)+(I25*D25) -> 7702.244 | K25: 4 | M25: =IF(((L25-N5)*86400)<0, 0, ((L25-N5)*86400)) -> 0 | O25: =(N25*86400) -> 0 | P25: =(M25*D25)+(O25*D25) -> 0 | Q25: =RANK(P25,P10:P30,1) -> 1 | R25: =Q25+K25 -> 5 | S25: =RANK(R25,R10:R30,1) -> 4
B26: 3503 | C26: Conundrum | D26: 0.965 | F26: ='White Sails IRC'!F26 -> 0.58053241 | G26: =IF(((F26-C5)*86400)<0, 0, ((F26-C5)*86400)) -> 8758 | I26: =(H26*86400) -> 0 | J26: =(G26*D26)+(I26*D26) -> 8451.47 | K26: 10 | M26: =IF(((L26-N5)*86400)<0, 0, ((L26-N5)*86400)) -> 0 | O26: =(N26*86400) -> 0 | P26: =(M26*D26)+(O26*D26) -> 0 | Q26: =RANK(P26,P10:P30,1) -> 1 | R26: =Q26+K26 -> 11 | S26: =RANK(R26,R10:R30,1) -> 10
B27: 1012 | C27: Lucyo | D27: 0.886 | F27: ='White Sails IRC'!F27 -> 0.59445602 | G27: =IF(((F27-C5)*86400)<0, 0, ((F27-C5)*86400)) -> 9961 | I27: =(H27*86400) -> 0 | J27: =(G27*D27)+(I27*D27) -> 8825.446 | K27: 14 | M27: =IF(((L27-N5)*86400)<0, 0, ((L27-N5)*86400)) -> 0 | O27: =(N27*86400) -> 0 | P27: =(M27*D27)+(O27*D27) -> 0 | Q27: =RANK(P27,P10:P30,1) -> 1 | R27: =Q27+K27 -> 15 | S27: =RANK(R27,R10:R30,1) -> 15
B28: 3104 | C28: Nirvana | D28: 0.833 | F28: ='White Sails IRC'!F28 -> 0.59119213 | G28: =IF(((F28-C5)*86400)<0, 0, ((F28-C5)*86400)) -> 9679 | I28: =(H28*86400) -> 0 | J28: =(G28*D28)+(I28*D28) -> 8062.607 | K28: 7 | M28: =IF(((L28-N5)*86400)<0, 0, ((L28-N5)*86400)) -> 0 | O28: =(N28*86400) -> 0 | P28: =(M28*D28)+(O28*D28) -> 0 | Q28: =RANK(P28,P10:P30,1) -> 1 | R28: =Q28+K28 -> 8 | S28: =RANK(R28,R10:R30,1) -> 7
